BEGIN:VCALENDAR
VERSION:2.0
PRODID:-//Cleveland - Events - ECPv6.2.0.1//NONSGML v1.0//EN
CALSCALE:GREGORIAN
X-WR-CALNAME:Cleveland - Events
X-ORIGINAL-URL:https://clevelandhs.seattleschools.org/events/gr-10-sba-mat
 h-testing/ics/
X-WR-CALDESC:Cleveland - Events
REFRESH-INTERVAL;VALUE=DURATION:PT1D
X-Robots-Tag:noindex
X-PUBLISHED-TTL:PT1D
BEGIN:VTIMEZONE
TZID:America/Vancouver
BEGIN:DAYLIGHT
TZOFFSETFROM:-0800
TZOFFSETTO:-0700
TZNAME:PDT
DTSTART:20260308T100000
END:DAYLIGHT
BEGIN:STANDARD
TZOFFSETFROM:-0700
TZOFFSETTO:-0800
TZNAME:PST
DTSTART:20261101T090000
END:STANDARD
END:VTIMEZONE
BEGIN:VEVENT
DTSTART;VALUE=DATE:20260518
DTEND;VALUE=DATE:20260519
DTSTAMP:20260425T113353Z
CREATED:20260307T084044Z
LAST-MODIFIED:20260307T084047Z
UID:https://clevelandhs.seattleschools.org/events/gr-10-sba-math-testing/
SUMMARY:10 SBA Math Testing
DESCRIPTION:Gr. 10 SBA Math Testing
URL:https://clevelandhs.seattleschools.org/events/gr-10-sba-math-testing/
END:VEVENT
END:VCALENDAR