BEGIN:VCALENDAR
VERSION:2.0
PRODID:-//Cleveland - Events - ECPv6.2.0.1//NONSGML v1.0//EN
CALSCALE:GREGORIAN
X-WR-CALNAME:Cleveland - Events
X-ORIGINAL-URL:https://clevelandhs.seattleschools.org/events/four-day-week
 -bell-schedule-4/ics/
X-WR-CALDESC:Cleveland - Events
REFRESH-INTERVAL;VALUE=DURATION:PT1D
X-Robots-Tag:noindex
X-PUBLISHED-TTL:PT1D
BEGIN:VTIMEZONE
TZID:America/Vancouver
BEGIN:DAYLIGHT
TZOFFSETFROM:-0800
TZOFFSETTO:-0700
TZNAME:PDT
DTSTART:20260308T100000
END:DAYLIGHT
BEGIN:STANDARD
TZOFFSETFROM:-0700
TZOFFSETTO:-0800
TZNAME:PST
DTSTART:20261101T090000
END:STANDARD
END:VTIMEZONE
BEGIN:VEVENT
DTSTART;VALUE=DATE:20260526
DTEND;VALUE=DATE:20260527
DTSTAMP:20260425T113433Z
CREATED:20250913T052412Z
LAST-MODIFIED:20250913T052415Z
UID:https://clevelandhs.seattleschools.org/events/four-day-week-bell-sched
 ule-4/
SUMMARY:4-Day Week Bell Schedule
DESCRIPTION:Four-Day Week Bell Schedule
URL:https://clevelandhs.seattleschools.org/events/four-day-week-bell-sched
 ule-4/
END:VEVENT
END:VCALENDAR