BEGIN:VCALENDAR
VERSION:2.0
PRODID:-//Cleveland - Events - ECPv6.2.0.1//NONSGML v1.0//EN
CALSCALE:GREGORIAN
X-WR-CALNAME:Cleveland - Events
X-ORIGINAL-URL:https://clevelandhs.seattleschools.org/events/2026-graduati
 on-ceremony/ics/
X-WR-CALDESC:Cleveland - Events
REFRESH-INTERVAL;VALUE=DURATION:PT1D
X-Robots-Tag:noindex
X-PUBLISHED-TTL:PT1D
BEGIN:VTIMEZONE
TZID:America/Vancouver
BEGIN:DAYLIGHT
TZOFFSETFROM:-0800
TZOFFSETTO:-0700
TZNAME:PDT
DTSTART:20260308T100000
END:DAYLIGHT
BEGIN:STANDARD
TZOFFSETFROM:-0700
TZOFFSETTO:-0800
TZNAME:PST
DTSTART:20261101T090000
END:STANDARD
END:VTIMEZONE
BEGIN:VEVENT
DTSTART;TZID=America/Vancouver:20260616T200000
DTEND;TZID=America/Vancouver:20260616T213000
DTSTAMP:20260425T113538Z
CREATED:20251213T012251Z
LAST-MODIFIED:20260303T094814Z
UID:https://clevelandhs.seattleschools.org/events/2026-graduation-ceremony
 /
SUMMARY:2026 Graduation  
DESCRIPTION:2026 Graduation Ceremony
URL:https://clevelandhs.seattleschools.org/events/2026-graduation-ceremony
 /
END:VEVENT
END:VCALENDAR